BEGIN:VCALENDAR
VERSION:2.0
PRODID:-//https://metronypca.org///NONSGML kigkonsult.se iCalcreator 2.10.15//
METHOD:PUBLISH
BEGIN:VEVENT
UID:20260424T145332UTC-9445j7ndkf@https://metronypca.org/
DTSTAMP:20260424T145332Z
DESCRIPTION:Register Here:\nhttps://clubregistration.net/events/event-detai
 ls.cfm?event_id=16981 https://metronypca.org/events/upcoming-events-list/e
 vent/416-malcolm-pray-make-luis-day
DTSTART:20260528T140000Z
DTEND:20260528T180000Z
LOCATION:Malcolm Pray Achievement Center (10506\, Bedford\, New York)
SUMMARY:Malcolm Pray Make Luis' Day
URL:https://metronypca.org/events/upcoming-events-list/event/416-malcolm-pr
 ay-make-luis-day
END:VEVENT
END:VCALENDAR
