BEGIN:VCALENDAR
VERSION:2.0
PRODID:-//https://metronypca.org///NONSGML kigkonsult.se iCalcreator 2.10.15//
METHOD:PUBLISH
BEGIN:VEVENT
UID:20260424T145509UTC-6062I1fAAv@https://metronypca.org/
DTSTAMP:20260424T145509Z
DESCRIPTION:Register here:\nhttps://clubregistration.net/events/event-detai
 ls.cfm?event_id=17131\n&nbsp\; https://metronypca.org/events/upcoming-even
 ts-list/event/415-pindar-concours-and-rally
DTSTART;VALUE=DATE:20260530
LOCATION:Pindar Vineyard (117 Main Street (Rt 112) Port Jefferson\, NY)
SUMMARY:Pindar Concours and Rally
URL:https://metronypca.org/events/upcoming-events-list/event/415-pindar-con
 cours-and-rally
END:VEVENT
END:VCALENDAR
