BEGIN:VCALENDAR
VERSION:2.0
PRODID:-//https://metronypca.org///NONSGML kigkonsult.se iCalcreator 2.10.15//
METHOD:PUBLISH
BEGIN:VEVENT
UID:20260421T080337UTC-3387Au0bLl@https://metronypca.org/
DTSTAMP:20260421T080337Z
DESCRIPTION: https://metronypca.org/events/upcoming-events-list/event/323-d
 e-palmer
DTSTART:20250809T110000Z
DTEND:20250810T210000Z
LOCATION:Palmer Motorsports Park (58 W Ware Street\, Palmer\, Massachusetts
 \, 01069)
SUMMARY:DE Palmer
URL:https://metronypca.org/events/upcoming-events-list/event/323-de-palmer
END:VEVENT
END:VCALENDAR
