BEGIN:VCALENDAR
VERSION:2.0
PRODID:-//https://metronypca.org///NONSGML kigkonsult.se iCalcreator 2.10.15//
METHOD:PUBLISH
BEGIN:VEVENT
UID:20260421T080234UTC-8825tU0CpU@https://metronypca.org/
DTSTAMP:20260421T080234Z
DESCRIPTION:{gallery}gallery/test-folder{/gallery} https://metronypca.org/e
 vents/upcoming-events-list/event/292-trek-3
DTSTART:20240808T120000Z
DTEND:20240808T160000Z
LOCATION:TBA (Long Island Expy\, Oakland Gardens\, New York\, 11364)
SUMMARY:Trek 3
URL:https://metronypca.org/events/upcoming-events-list/event/292-trek-3
END:VEVENT
END:VCALENDAR
