BEGIN:VCALENDAR
VERSION:2.0
PRODID:-//https://metronypca.org///NONSGML kigkonsult.se iCalcreator 2.10.15//
METHOD:PUBLISH
BEGIN:VEVENT
UID:20260421T092033UTC-96082UOvRu@https://metronypca.org/
DTSTAMP:20260421T092033Z
DESCRIPTION:&nbsp\;&nbsp\; Please save the dates for the upcoming 2023 Metr
 o NY PCA Trek season. There will be 5 Treks this year from June to October
 . Registration will start in Late April for the first event.\nThe second T
 rek of the year is over 103 miles long. We will be traveling through the r
 oads of Fairfield County CT and Westchester County NY.&nbsp\; We will be e
 nding the TREK at Abatino’s restaurant in White Plains NY for a sit down l
 unch.\nREGISTRATION FOR TREK ll&nbsp\;OPENS ON MONDAY JUNE 5TH&nbsp\;AT 7P
 M EST.&nbsp\; The date of Trek ll is&nbsp\;7-2-2023\nPlease register early
  as we are limited to 39 Drivers.\n&nbsp\;\nREGISTRATION WILL CLOSE ON MON
 DAY JUNE 12TH AT 7PM EST\nCost of the Trek is $65.00 per person with $5.00
  per person going to our 2023 Charities.\nPlease contact me via e mail (me
 tronytrek@outlook.com) to assist with the program.\nTREK REGISTRATION CHAN
 GE FOR 2023\nWe will no longer be using Eventbrite for Trek registration.&
 nbsp\;I Strongly suggest all members that are not familiar with Club Regis
 tration and do not have an account\, visit the&nbsp\;website at&nbsp\;club
 registration.net/login&nbsp\;and create an account.&nbsp\;This will make t
 he registration process a lot smoother when you are ready to register for 
 the Trek or any other Metro PCA events.\nWhen searching for the Trek (Tour
 ) events to register for\, start with searching&nbsp\;by event host- which
  is&nbsp\;Metro NY PCA\, then&nbsp\;include the other search box (to the l
 eft) by&nbsp\;event type&nbsp\;which is&nbsp\;Tours. Then hit search. This
  will take you to the location to register for the event. The following&nb
 sp\;link will also take you directly to registration for the Trek.&nbsp\;
 \nhttps://clubregistration.net/events/signUp.cfm/event/13573 https://metro
 nypca.org/events/upcoming-events-list/event/204-trek-2
DTSTART:20230702T120000Z
DTEND:20230702T190000Z
LOCATION:TBA (Long Island Expy\, Oakland Gardens\, New York\, 11364)
SUMMARY:Trek 2
URL:https://metronypca.org/events/upcoming-events-list/event/204-trek-2
END:VEVENT
END:VCALENDAR
