BEGIN:VCALENDAR
VERSION:2.0
PRODID:-//https://metronypca.org///NONSGML kigkonsult.se iCalcreator 2.10.15//
METHOD:PUBLISH
BEGIN:VEVENT
UID:20260421T080728UTC-3259jBx9l9@https://metronypca.org/
DTSTAMP:20260421T080728Z
DESCRIPTION:https://clubregistration.net/events/signUp.cfm/event/12989&nbsp
 \; https://metronypca.org/events/upcoming-events-list/event/198-de-watkins
 -glen
DTSTART:20230728T110000Z
DTEND:20230730T210000Z
LOCATION:Watkins Glen (2790 County Route 16 Watkins Glen\, New York 14891 U
 nited States)
SUMMARY:DE Watkins Glen
URL:https://metronypca.org/events/upcoming-events-list/event/198-de-watkins
 -glen
END:VEVENT
END:VCALENDAR
