BEGIN:VCALENDAR
VERSION:2.0
PRODID:-//https://metronypca.org///NONSGML kigkonsult.se iCalcreator 2.10.15//
METHOD:PUBLISH
BEGIN:VEVENT
UID:20260421T080336UTC-7592FaCCGx@https://metronypca.org/
DTSTAMP:20260421T080336Z
DESCRIPTION:https://clubregistration.net/events/signUp.cfm/event/12991 http
 s://metronypca.org/events/upcoming-events-list/event/197-de-njmp-thunderbo
 lt
DTSTART:20230626T110000Z
DTEND:20230627T210000Z
LOCATION:NJMP Thunderbolt (8000 Dividing Creek Rd Milville\, New Jersey 083
 32 United States)
SUMMARY:DE NJMP Thunderbolt
URL:https://metronypca.org/events/upcoming-events-list/event/197-de-njmp-th
 underbolt
END:VEVENT
END:VCALENDAR
