BEGIN:VCALENDAR
VERSION:2.0
PRODID:-//https://metronypca.org///NONSGML kigkonsult.se iCalcreator 2.10.15//
METHOD:PUBLISH
BEGIN:VEVENT
UID:20260420T095312UTC-1059LhxUK8@https://metronypca.org/
DTSTAMP:20260420T095312Z
DESCRIPTION:Please join us for a session with Chris Breezy at his Customs D
 etailing Shop!Chris has promised to educate the Metro NY PCA members on th
 e caring &amp\; detailing of their precious automobiles.\nTo RSVP\, contac
 t Michael P. Mazzilli\, CFP®\, ChFC®\, a Private Wealth Advisor of Ameripr
 ise Financial. Email: michael.x.mazzilli@ampf.com or call 914-341-1482.\n&
 nbsp\; https://metronypca.org/events/upcoming-events-list/event/177-detail
 ing-tech-session
DTSTART:20221203T144500Z
DTEND:20221203T160000Z
LOCATION:Custom Detailing Shop (816 E Boston Post Rd\, Mamaroneck\, New Yor
 k\, 10543)
SUMMARY:Detailing Tech Session
URL:https://metronypca.org/events/upcoming-events-list/event/177-detailing-
 tech-session
END:VEVENT
END:VCALENDAR
