BEGIN:VCALENDAR
VERSION:2.0
PRODID:-//https://metronypca.org///NONSGML kigkonsult.se iCalcreator 2.10.15//
METHOD:PUBLISH
BEGIN:VEVENT
UID:20260421T082541UTC-8477ZacsuK@https://metronypca.org/
DTSTAMP:20260421T082541Z
DESCRIPTION:Check out our latest offerings for women's only events.Interest
 ed in taking your car on the track? Join us for two days of fun and educat
 ion at the New Jersey Motorsports ParkYou asked! We listened! Join our Wom
 en's Track (Driver Education)\nRun Group\nSeptember 30th/October 1stNJMP L
 ightning\, Millville\, NJ\nThis is part of our regularly scheduled Drivers
  Education eventschedule. If you would like to be part of this event\, ema
 il Julie Reimannat jreimann10@gmail.com for further details and sign-up in
 structions. https://metronypca.org/events/upcoming-events-list/event/157-w
 omen-of-metro-de-track-event
DTSTART:20220930T070000Z
DTEND:20221001T170000Z
LOCATION:NJMP Lightning (8000 Dividing Creek Rd Millville\, NJ 08332)
SUMMARY:Women of Metro DE Track Event
URL:https://metronypca.org/events/upcoming-events-list/event/157-women-of-m
 etro-de-track-event
END:VEVENT
END:VCALENDAR
