BEGIN:VCALENDAR
VERSION:2.0
PRODID:-//https://metronypca.org///NONSGML kigkonsult.se iCalcreator 2.10.15//
METHOD:PUBLISH
BEGIN:VEVENT
UID:20260419T122334UTC-95918H769M@https://metronypca.org/
DTSTAMP:20260419T122334Z
DESCRIPTION:\n\nCars&amp\;Coffee Meatpacking\nJoin us at&nbsp\;Leica Store 
 and Gallery&nbsp\;for a morning filled with amazing cars\, delicious coffe
 e\, and great company. Whether you're a car enthusiast\, want to take some
  great photos\, or just looking for a fun way to start your day\, this eve
 nt is for you. Kids\, Dogs\, Families and friends welcome!\nShow off your 
 ride\, chat with fellow car lovers\, and enjoy a hot cup of coffee. We can
 't wait to catch up\, and meet new friends!\nSunday Motor Co. will be on-s
 ite providing their delicious coffee along with La Marzocco Home showing o
 ff their coffee machines and brewing up drip and espresso blends for your 
 enjoyment inside the Leica store\nInterested in showing your car?\n\nAll m
 akes / models welcome!\nSelect a parking option for headcount\, best effor
 t for parking \;D\nGeneral Parking from 8:30am\nFirst few slots in front o
 f Leica will be reserved for Sunday Motor Co.\n\nThank you for your unders
 tanding!\n\n\n\n\nFor DriversUse Leica's address: 406 W 13th St\, New York
 \, NY 10014 -- meterd parking is available on both sides of W 13th Street.
 Arrive 8:30 - 9am\nFor SpectatorsPublic Transportation Options.\n\n1\,2\,3
 : 14th Street Station (~5-min walk)\nA\,C\,E\,L: 14th &amp\; 8th Ave (~5-m
 in walk)\nM11\,M12\,M14A-SBS: : Hudson St &amp\; W 13th (~2-min walk)\nM11
 : 9th Ave &amp\; W 13th (~1-min walk)\nM14D-SBS: Hudson &amp\; W 14th (~2-
 min walk)\n\nTaxi/Rideshare use a corner drop-off to save time/effort and 
 walk over to W 13th:\n\nLower Manhattan: 9th Ave &amp\; W 13th\nUpper Manh
 attan: Hudson &amp\; W 13th\n\nShow runs from 9am - 11am\nRSVP for headcou
 nt (and carcount):&nbsp\;https://www.eventbrite.com/e/carscoffee-meatpacki
 ng-tickets-1291160368419\n\n https://metronypca.org/events/metro-event-cal
 endar/event/356-cars-coffee-meatpacking
DTSTART:20250405T130000Z
DTEND:20250405T150000Z
LOCATION:Leica Store & Gallery NY (406 W 13th St\, New York\, New York\, 10
 014)
SUMMARY:Cars&Coffee Meatpacking
URL:https://metronypca.org/events/metro-event-calendar/event/356-cars-coffe
 e-meatpacking
END:VEVENT
END:VCALENDAR
